data_38116-ICSD
#©2011 by Fachinformationszentrum Karlsruhe, and the U.S. Secretary of 
#Commerce on behalf of the United States.  All rights reserved.
_database_code_ICSD                38116
_audit_creation_date               1980/01/01
_audit_update_record               2007/08/01
_chemical_name_systematic          'Cadmium Iodide'
_chemical_formula_structural       'Cd I2'
_chemical_formula_sum              'Cd1 I2'
_publ_section_title
;
An X-ray examination of cadmium iodide
;
loop_
_citation_id
_citation_journal_abbrev
_citation_year
_citation_journal_volume
_citation_page_first
_citation_page_last
_citation_journal_id_ASTM
primary 'Acta Physicochimica (USSR)' 1941 15 255 275 ACPYAR
2
;
Zeitschrift fuer Physikalische Chemie, Abteilung B: Chemie der 
Elementarprozesse, Aufbau der Materie
;
 1933 22 333 334 ZPCBAL
_publ_author_name
;
Smirnova, L.;Brager, A.;Zhdanov, H.
;
_cell_length_a                     4.24
_cell_length_b                     4.24
_cell_length_c                     13.7
_cell_angle_alpha                  90.
_cell_angle_beta                   90.
_cell_angle_gamma                  120.
_cell_volume                       213.3
_cell_formula_units_Z              2
_symmetry_space_group_name_H-M     'P 63 m c'
_symmetry_Int_Tables_number        186
loop_
_symmetry_equiv_pos_site_id
_symmetry_equiv_pos_as_xyz
  1	'-x, -x+y, z+1/2'
  2	'x-y, -y, z+1/2'
  3	'y, x, z+1/2'
  4	'x-y, x, z+1/2'
  5	'y, -x+y, z+1/2'
  6	'-x, -y, z+1/2'
  7	'x, x-y, z'
  8	'-x+y, y, z'
  9	'-y, -x, z'
 10	'-x+y, -x, z'
 11	'-y, x-y, z'
 12	'x, y, z'
loop_
_atom_type_symbol
_atom_type_oxidation_number
Cd2+	2
I1-	-1
loop_
_atom_site_label
_atom_site_type_symbol
_atom_site_symmetry_multiplicity
_atom_site_Wyckoff_symbol
_atom_site_fract_x
_atom_site_fract_y
_atom_site_fract_z
_atom_site_occupancy
_atom_site_attached_hydrogens
Cd1 Cd2+ 2 b 0.3333 0.6667 0.5 1. 0 
I3 I1- 2 a 0 0 0.625 1. 0 
I4 I1- 2 b 0.6667 0.3333 0.375 1. 0 

#End of data_38116-ICSD


