data_15012-ICSD
#©2011 by Fachinformationszentrum Karlsruhe, and the U.S. Secretary of 
#Commerce on behalf of the United States.  All rights reserved.
_database_code_ICSD                15012
_audit_creation_date               1980/01/01
_audit_update_record               2007/04/01
_chemical_name_systematic          'Iron Persulfide'
_chemical_formula_structural       'Fe S2'
_chemical_formula_sum              'Fe1 S2'
_chemical_name_mineral             Pyrite
_publ_section_title
;
Redetermined crystal structure of Fe S2 (pyrite)
;
loop_
_citation_id
_citation_journal_abbrev
_citation_year
_citation_journal_volume
_citation_page_first
_citation_page_last
_citation_journal_id_ASTM
primary 'Acta Chemica Scandinavica (1-27,1973-42,1988)' 1969 23 2186 2188 ACSAA4
2 'Phase Transition' 1992 38 127 220 PHTRDP
_publ_author_name                  'Brostigen, G.;Kjekshus, A.'
_cell_length_a                     5.4179(11)
_cell_length_b                     5.4179(11)
_cell_length_c                     5.4179(11)
_cell_angle_alpha                  90.
_cell_angle_beta                   90.
_cell_angle_gamma                  90.
_cell_volume                       159.04
_cell_formula_units_Z              4
_symmetry_space_group_name_H-M     'P a -3'
_symmetry_Int_Tables_number        205
_refine_ls_R_factor_all            0.075
loop_
_symmetry_equiv_pos_site_id
_symmetry_equiv_pos_as_xyz
  1	'-z+1/2, x+1/2, y'
  2	'z+1/2, x, -y+1/2'
  3	'z, -x+1/2, y+1/2'
  4	'-z, -x, -y'
  5	'y, -z+1/2, x+1/2'
  6	'-y+1/2, z+1/2, x'
  7	'y+1/2, z, -x+1/2'
  8	'-y, -z, -x'
  9	'x+1/2, y, -z+1/2'
 10	'x, -y+1/2, z+1/2'
 11	'-x+1/2, y+1/2, z'
 12	'-x, -y, -z'
 13	'z+1/2, -x+1/2, -y'
 14	'-z+1/2, -x, y+1/2'
 15	'-z, x+1/2, -y+1/2'
 16	'z, x, y'
 17	'-y, z+1/2, -x+1/2'
 18	'y+1/2, -z+1/2, -x'
 19	'-y+1/2, -z, x+1/2'
 20	'y, z, x'
 21	'-x+1/2, -y, z+1/2'
 22	'-x, y+1/2, -z+1/2'
 23	'x+1/2, -y+1/2, -z'
 24	'x, y, z'
loop_
_atom_type_symbol
_atom_type_oxidation_number
Fe2+	2
S1-	-1
loop_
_atom_site_label
_atom_site_type_symbol
_atom_site_symmetry_multiplicity
_atom_site_Wyckoff_symbol
_atom_site_fract_x
_atom_site_fract_y
_atom_site_fract_z
_atom_site_occupancy
_atom_site_attached_hydrogens
_atom_site_B_iso_or_equiv
Fe1 Fe2+ 4 a 0 0 0 1. 0 0.14(4) 
S1 S1- 8 c 0.3840(5) 0.3840(5) 0.3840(5) 1. 0 0.12(5) 

#End of data_15012-ICSD


